BEGIN:VCALENDAR
VERSION:2.0
PRODID:-//Rerooted &amp; Co. - ECPv6.15.16//NONSGML v1.0//EN
CALSCALE:GREGORIAN
METHOD:PUBLISH
X-ORIGINAL-URL:https://rerootedco.com
X-WR-CALDESC:Events for Rerooted &amp; Co.
REFRESH-INTERVAL;VALUE=DURATION:PT1H
X-Robots-Tag:noindex
X-PUBLISHED-TTL:PT1H
BEGIN:VTIMEZONE
TZID:UTC
BEGIN:STANDARD
TZOFFSETFROM:+0000
TZOFFSETTO:+0000
TZNAME:UTC
DTSTART:20250101T000000
END:STANDARD
END:VTIMEZONE
BEGIN:VEVENT
DTSTART;TZID=UTC:20260606T080000
DTEND;TZID=UTC:20260606T120000
DTSTAMP:20260420T184212
CREATED:20260412T144754Z
LAST-MODIFIED:20260412T144754Z
UID:261-1780732800-1780747200@rerootedco.com
SUMMARY:Market Day at The Valley Merc
DESCRIPTION:
URL:https://rerootedco.com/event/market-day-at-the-valley-merc-2/
END:VEVENT
BEGIN:VEVENT
DTSTART;TZID=UTC:20260613T140000
DTEND;TZID=UTC:20260613T190000
DTSTAMP:20260420T184212
CREATED:20260321T145956Z
LAST-MODIFIED:20260321T145956Z
UID:227-1781359200-1781377200@rerootedco.com
SUMMARY:Dirt Road Degenerates
DESCRIPTION:
URL:https://rerootedco.com/event/dirt-road-degenerates/
END:VEVENT
END:VCALENDAR