BEGIN:VCALENDAR
VERSION:2.0
PRODID:-//Rerooted &amp; Co. - ECPv6.15.16//NONSGML v1.0//EN
CALSCALE:GREGORIAN
METHOD:PUBLISH
X-WR-CALNAME:Rerooted &amp; Co.
X-ORIGINAL-URL:https://rerootedco.com
X-WR-CALDESC:Events for Rerooted &amp; Co.
REFRESH-INTERVAL;VALUE=DURATION:PT1H
X-Robots-Tag:noindex
X-PUBLISHED-TTL:PT1H
BEGIN:VTIMEZONE
TZID:UTC
BEGIN:STANDARD
TZOFFSETFROM:+0000
TZOFFSETTO:+0000
TZNAME:UTC
DTSTART:20250101T000000
END:STANDARD
END:VTIMEZONE
BEGIN:VEVENT
DTSTART;TZID=UTC:20260508T173000
DTEND;TZID=UTC:20260508T200000
DTSTAMP:20260420T223414
CREATED:20260320T223452Z
LAST-MODIFIED:20260327T174717Z
UID:221-1778261400-1778270400@rerootedco.com
SUMMARY:Mother's Day Plant Bingo- SOLD OUT!
DESCRIPTION:Join us for a fun night of bingo and win unique plants from Re-Rooted\, NV-US Silverworks\, and CV Flyte. Come play bingo\, shop with Re-Rooted\, NV-US Silverworks\, Flora Co and of course specialty cocktails from CV Flyte!!\n \nThis is a ticketed event with two attendance options:\n•    Free Ticket – Free Entry to the event. Drinks available to buy.\n•    Unlimited Drinks ($20) – Indulge in unlimited drinks while you play bingo and shop our vendors! \nPlease Note:\n•    You MUST have a (Free or Unlimited Drink) ticket to enter the event.\n•    Bingo cards are available to buy at the event.  \n**Tickets are required to be purchased in advance!**
URL:https://rerootedco.com/event/mothers-day-plant-bingo/
END:VEVENT
BEGIN:VEVENT
DTSTART;TZID=UTC:20260502T080000
DTEND;TZID=UTC:20260502T120000
DTSTAMP:20260420T223414
CREATED:20260412T144701Z
LAST-MODIFIED:20260412T144701Z
UID:258-1777708800-1777723200@rerootedco.com
SUMMARY:Market Day at The Valley Merc
DESCRIPTION:
URL:https://rerootedco.com/event/market-day-at-the-valley-merc/
END:VEVENT
BEGIN:VEVENT
DTSTART;TZID=UTC:20260411T120000
DTEND;TZID=UTC:20260411T170000
DTSTAMP:20260420T223414
CREATED:20260222T011301Z
LAST-MODIFIED:20260222T011301Z
UID:133-1775908800-1775926800@rerootedco.com
SUMMARY:Wildflower Revival
DESCRIPTION:
URL:https://rerootedco.com/event/wildflower-revival/
END:VEVENT
END:VCALENDAR