BEGIN:VCALENDAR
VERSION:2.0
PRODID:-//Rerooted &amp; Co. - ECPv6.15.16//NONSGML v1.0//EN
CALSCALE:GREGORIAN
METHOD:PUBLISH
X-WR-CALNAME:Rerooted &amp; Co.
X-ORIGINAL-URL:https://rerootedco.com
X-WR-CALDESC:Events for Rerooted &amp; Co.
REFRESH-INTERVAL;VALUE=DURATION:PT1H
X-Robots-Tag:noindex
X-PUBLISHED-TTL:PT1H
BEGIN:VTIMEZONE
TZID:UTC
BEGIN:STANDARD
TZOFFSETFROM:+0000
TZOFFSETTO:+0000
TZNAME:UTC
DTSTART:20250101T000000
END:STANDARD
END:VTIMEZONE
BEGIN:VEVENT
DTSTART;TZID=UTC:20260919T140000
DTEND;TZID=UTC:20260919T200000
DTSTAMP:20260421T015044
CREATED:20260412T144250Z
LAST-MODIFIED:20260412T144250Z
UID:252-1789826400-1789848000@rerootedco.com
SUMMARY:The Golden Hour Market
DESCRIPTION:
URL:https://rerootedco.com/event/the-golden-hour-market/
END:VEVENT
END:VCALENDAR