BEGIN:VCALENDAR
VERSION:2.0
PRODID:-//Rerooted &amp; Co. - ECPv6.15.16//NONSGML v1.0//EN
CALSCALE:GREGORIAN
METHOD:PUBLISH
X-ORIGINAL-URL:https://rerootedco.com
X-WR-CALDESC:Events for Rerooted &amp; Co.
REFRESH-INTERVAL;VALUE=DURATION:PT1H
X-Robots-Tag:noindex
X-PUBLISHED-TTL:PT1H
BEGIN:VTIMEZONE
TZID:UTC
BEGIN:STANDARD
TZOFFSETFROM:+0000
TZOFFSETTO:+0000
TZNAME:UTC
DTSTART:20250101T000000
END:STANDARD
END:VTIMEZONE
BEGIN:VEVENT
DTSTART;TZID=UTC:20260725T100000
DTEND;TZID=UTC:20260725T130000
DTSTAMP:20260420T222853
CREATED:20260321T231735Z
LAST-MODIFIED:20260321T231735Z
UID:237-1784973600-1784984400@rerootedco.com
SUMMARY:Pop-Up at Poppin Tagz Thriftique Store
DESCRIPTION:I am super excited to team up with Poppin Tagz and Rhinestone Cowgirl Boutique for a wonderful plant pop-up. There will be an awesome raffle- all you have to do is show up and support some local businesses to be entered!!
URL:https://rerootedco.com/event/pop-up-at-poppin-tagz-thriftique-store/
END:VEVENT
END:VCALENDAR