BEGIN:VCALENDAR
VERSION:2.0
PRODID:-//Rerooted &amp; Co. - ECPv6.15.16//NONSGML v1.0//EN
CALSCALE:GREGORIAN
METHOD:PUBLISH
X-ORIGINAL-URL:https://rerootedco.com
X-WR-CALDESC:Events for Rerooted &amp; Co.
REFRESH-INTERVAL;VALUE=DURATION:PT1H
X-Robots-Tag:noindex
X-PUBLISHED-TTL:PT1H
BEGIN:VTIMEZONE
TZID:UTC
BEGIN:STANDARD
TZOFFSETFROM:+0000
TZOFFSETTO:+0000
TZNAME:UTC
DTSTART:20250101T000000
END:STANDARD
END:VTIMEZONE
BEGIN:VEVENT
DTSTART;TZID=UTC:20260509T173000
DTEND;TZID=UTC:20260509T200000
DTSTAMP:20260420T184213
CREATED:20260324T142757Z
LAST-MODIFIED:20260324T144040Z
UID:239-1778347800-1778356800@rerootedco.com
SUMMARY:Mother's Day Plant Bingo- Night 2! SOLD OUT!!!
DESCRIPTION:Plant bingo was so popular we decided to add another day! You have another chance to snag tickets for Saturday\, May 9th! \nJoin us for a fun night of bingo and win unique plants from Re-Rooted\, NV-US Silverworks\, and CV Flyte. Come play bingo\, shop with Re-Rooted\, NV-US Silverworks\, Flora Co and of course specialty cocktails from CV Flyte!!\n \nThis is a ticketed event with two attendance options:\n•    Free Ticket – Free Entry to the event. Drinks available to buy.\n•    Unlimited Drinks ($20) – Indulge in unlimited drinks while you play bingo and shop our vendors! \nPlease Note:\n•    You MUST have a (Free or Unlimited Drink) ticket to enter the event.\n•    Bingo cards are available to buy at the event.  \n**Tickets are required to be purchased in advance!**
URL:https://rerootedco.com/event/mothers-day-plant-bingo-night-2/
END:VEVENT
END:VCALENDAR